BEGIN:VCALENDAR
VERSION:2.0
PRODID:-//Friends of Larkrise - ECPv6.15.1.1//NONSGML v1.0//EN
CALSCALE:GREGORIAN
METHOD:PUBLISH
X-ORIGINAL-URL:https://friendsoflarkrise.org
X-WR-CALDESC:Events for Friends of Larkrise
REFRESH-INTERVAL;VALUE=DURATION:PT1H
X-Robots-Tag:noindex
X-PUBLISHED-TTL:PT1H
BEGIN:VTIMEZONE
TZID:UTC
BEGIN:STANDARD
TZOFFSETFROM:+0000
TZOFFSETTO:+0000
TZNAME:UTC
DTSTART:20200101T000000
END:STANDARD
END:VTIMEZONE
BEGIN:VEVENT
DTSTART;TZID=UTC:20211119T150000
DTEND;TZID=UTC:20211119T163000
DTSTAMP:20260423T224039
CREATED:20211101T172805Z
LAST-MODIFIED:20211101T172808Z
UID:928-1637334000-1637339400@friendsoflarkrise.org
SUMMARY:Cafe & Meet-The-Head
DESCRIPTION:
URL:https://friendsoflarkrise.org/calendar/cafe-meet-the-head/
ATTACH;FMTTYPE=image/jpeg:https://friendsoflarkrise.org/wp-content/uploads/2021/09/tea-cake-love-forever-tea-cake-hug-comic-cartoon-ve-tea-cake-love-forever-tea-cake-hug-comic-cartoon-vector-116517339.jpg
END:VEVENT
BEGIN:VEVENT
DTSTART;TZID=UTC:20211114T100000
DTEND;TZID=UTC:20211114T150000
DTSTAMP:20260423T224039
CREATED:20211101T172350Z
LAST-MODIFIED:20211101T172354Z
UID:925-1636884000-1636902000@friendsoflarkrise.org
SUMMARY:Volunteer Day
DESCRIPTION:
URL:https://friendsoflarkrise.org/calendar/volunteer-day-2/
ATTACH;FMTTYPE=image/jpeg:https://friendsoflarkrise.org/wp-content/uploads/2021/11/clip-art-tree-planting-plants-portable-network-graphics-png-favpng-yxNq9mmnXRzdsCjZSXwp7Zqyj.jpg
END:VEVENT
BEGIN:VEVENT
DTSTART;TZID=UTC:20211108T200000
DTEND;TZID=UTC:20211108T210000
DTSTAMP:20260423T224039
CREATED:20211105T161309Z
LAST-MODIFIED:20211105T161313Z
UID:954-1636401600-1636405200@friendsoflarkrise.org
SUMMARY:Larkmas Planning Meeting #2
DESCRIPTION:
URL:https://friendsoflarkrise.org/calendar/larkmas-planning-meeting-2/
ATTACH;FMTTYPE=image/jpeg:https://friendsoflarkrise.org/wp-content/uploads/2021/10/Rattan-Reindeer-Family-Christmas-Figures-Outdoor-Garden_P1_2000x2000.jpg
END:VEVENT
BEGIN:VEVENT
DTSTART;TZID=UTC:20211103T190000
DTEND;TZID=UTC:20211103T200000
DTSTAMP:20260423T224039
CREATED:20211101T155633Z
LAST-MODIFIED:20211101T155636Z
UID:923-1635966000-1635969600@friendsoflarkrise.org
SUMMARY:FoL Meeting (online)
DESCRIPTION:
URL:https://friendsoflarkrise.org/calendar/fol-meeting-online/
ATTACH;FMTTYPE=image/png:https://friendsoflarkrise.org/wp-content/uploads/2021/01/FOL-meeting-icon.png
END:VEVENT
BEGIN:VEVENT
DTSTART;TZID=UTC:20211102T151500
DTEND;TZID=UTC:20211102T161500
DTSTAMP:20260423T224039
CREATED:20211101T155450Z
LAST-MODIFIED:20211101T155501Z
UID:921-1635866100-1635869700@friendsoflarkrise.org
SUMMARY:Larkmas Planning Meeting
DESCRIPTION:
URL:https://friendsoflarkrise.org/calendar/larkmas-planning-meeting/
ATTACH;FMTTYPE=image/png:https://friendsoflarkrise.org/wp-content/uploads/2021/11/redsquirrel-smaller.png
END:VEVENT
BEGIN:VEVENT
DTSTART;TZID=UTC:20211021T170000
DTEND;TZID=UTC:20211021T183000
DTSTAMP:20260423T224039
CREATED:20211101T155216Z
LAST-MODIFIED:20211101T155220Z
UID:918-1634835600-1634841000@friendsoflarkrise.org
SUMMARY:CANCELLED: Halloween Event
DESCRIPTION:
URL:https://friendsoflarkrise.org/calendar/cancelled-halloween-event/
ATTACH;FMTTYPE=image/png:https://friendsoflarkrise.org/wp-content/uploads/2021/11/cute-halloween-spider.png
END:VEVENT
BEGIN:VEVENT
DTSTART;TZID=UTC:20211017T100000
DTEND;TZID=UTC:20211017T150000
DTSTAMP:20260423T224039
CREATED:20211101T154946Z
LAST-MODIFIED:20211101T154950Z
UID:916-1634464800-1634482800@friendsoflarkrise.org
SUMMARY:CANCELLED: Volunteer Day
DESCRIPTION:
URL:https://friendsoflarkrise.org/calendar/cancelled-volunteer-day/
ATTACH;FMTTYPE=image/png:https://friendsoflarkrise.org/wp-content/uploads/2020/11/working-bee-icon-W80.png
END:VEVENT
BEGIN:VEVENT
DTSTART;TZID=UTC:20211012T150000
DTEND;TZID=UTC:20211012T160000
DTSTAMP:20260423T224039
CREATED:20211101T154817Z
LAST-MODIFIED:20211101T154820Z
UID:914-1634050800-1634054400@friendsoflarkrise.org
SUMMARY:Larkrise Cafe + Meet-The-Head
DESCRIPTION:
URL:https://friendsoflarkrise.org/calendar/larkrise-cafe-meet-the-head/
ATTACH;FMTTYPE=image/jpeg:https://friendsoflarkrise.org/wp-content/uploads/2021/09/tea-cake-love-forever-tea-cake-hug-comic-cartoon-ve-tea-cake-love-forever-tea-cake-hug-comic-cartoon-vector-116517339.jpg
END:VEVENT
BEGIN:VEVENT
DTSTART;TZID=UTC:20210926T100000
DTEND;TZID=UTC:20210926T150000
DTSTAMP:20260423T224039
CREATED:20211101T154509Z
LAST-MODIFIED:20211101T154512Z
UID:912-1632650400-1632668400@friendsoflarkrise.org
SUMMARY:Volunteer Day
DESCRIPTION:
URL:https://friendsoflarkrise.org/calendar/volunteer-day/
ATTACH;FMTTYPE=image/png:https://friendsoflarkrise.org/wp-content/uploads/2021/09/IMG_3684.png
END:VEVENT
BEGIN:VEVENT
DTSTART;TZID=UTC:20210922T190000
DTEND;TZID=UTC:20210922T210000
DTSTAMP:20260423T224039
CREATED:20210718T225735Z
LAST-MODIFIED:20210718T225737Z
UID:768-1632337200-1632344400@friendsoflarkrise.org
SUMMARY:FOL AGM
DESCRIPTION:Join us for the FoL Annual General Meeting\, where the committee and sub-committee are voted in\, and we discuss plans for Term 1A and Term 1B. Whether the meeting is held online or in person will be announced closer to the date.
URL:https://friendsoflarkrise.org/calendar/fol-agm-2/
END:VEVENT
BEGIN:VEVENT
DTSTART;TZID=UTC:20210917T144500
DTEND;TZID=UTC:20210917T160000
DTSTAMP:20260423T224039
CREATED:20210718T225539Z
LAST-MODIFIED:20210718T225542Z
UID:766-1631889900-1631894400@friendsoflarkrise.org
SUMMARY:Cafe / Welcome Event
DESCRIPTION:Come and meet other parents at the school\, while having a snack or drink from the Larkrise Cafe.
URL:https://friendsoflarkrise.org/calendar/cafe-welcome-event/
END:VEVENT
BEGIN:VEVENT
DTSTART;TZID=UTC:20210906T120000
DTEND;TZID=UTC:20210906T120000
DTSTAMP:20260423T224039
CREATED:20210718T225217Z
LAST-MODIFIED:20210718T225220Z
UID:764-1630929600-1630929600@friendsoflarkrise.org
SUMMARY:First day of 2021-2022 school year
DESCRIPTION:
URL:https://friendsoflarkrise.org/calendar/first-day-of-2021-2022-school-year/
END:VEVENT
BEGIN:VEVENT
DTSTART;TZID=UTC:20210716T144500
DTEND;TZID=UTC:20210716T153000
DTSTAMP:20260423T224039
CREATED:20210718T224151Z
LAST-MODIFIED:20210718T224154Z
UID:755-1626446700-1626449400@friendsoflarkrise.org
SUMMARY:Doughnut Sale
DESCRIPTION:
URL:https://friendsoflarkrise.org/calendar/doughnut-sale/
END:VEVENT
BEGIN:VEVENT
DTSTART;TZID=UTC:20210713T235900
DTEND;TZID=UTC:20210726T235900
DTSTAMP:20260423T224039
CREATED:20210718T224642Z
LAST-MODIFIED:20210718T230034Z
UID:760-1626220740-1627343940@friendsoflarkrise.org
SUMMARY:Sports Equipment Appeal
DESCRIPTION:The Friends of Larkrise is running a short appeal to collect donations for new sporting equipment. If you would like to make a donation\, please visit https://localgiving.org/appeal/LarkriseSportsEquipment/
URL:https://friendsoflarkrise.org/calendar/sports-equipment-appeal/
END:VEVENT
BEGIN:VEVENT
DTSTART;TZID=UTC:20210704T000000
DTEND;TZID=UTC:20210704T235959
DTSTAMP:20260423T224039
CREATED:20210119T212417Z
LAST-MODIFIED:20210718T224049Z
UID:453-1625356800-1625443199@friendsoflarkrise.org
SUMMARY:FOL Volunteer Day
DESCRIPTION:
URL:https://friendsoflarkrise.org/calendar/fol-work-party-to-be-confirmed-3/
ATTACH;FMTTYPE=image/png:https://friendsoflarkrise.org/wp-content/uploads/2021/01/working-bee-icon.png
END:VEVENT
BEGIN:VEVENT
DTSTART;TZID=UTC:20210613T000000
DTEND;TZID=UTC:20210613T235959
DTSTAMP:20260423T224039
CREATED:20210119T203050Z
LAST-MODIFIED:20210718T224244Z
UID:441-1623542400-1623628799@friendsoflarkrise.org
SUMMARY:FOL Volunteer Day
DESCRIPTION:
URL:https://friendsoflarkrise.org/calendar/fol-work-party-4/
ATTACH;FMTTYPE=image/png:https://friendsoflarkrise.org/wp-content/uploads/2021/01/working-bee-icon.png
END:VEVENT
BEGIN:VEVENT
DTSTART;TZID=UTC:20210609T190000
DTEND;TZID=UTC:20210609T210000
DTSTAMP:20260423T224039
CREATED:20210119T203151Z
LAST-MODIFIED:20210120T022430Z
UID:443-1623265200-1623272400@friendsoflarkrise.org
SUMMARY:FOL Meeting
DESCRIPTION:
URL:https://friendsoflarkrise.org/calendar/fol-meeting-7/
ATTACH;FMTTYPE=image/png:https://friendsoflarkrise.org/wp-content/uploads/2021/01/FOL-meeting-icon.png
END:VEVENT
BEGIN:VEVENT
DTSTART;TZID=UTC:20210509T000000
DTEND;TZID=UTC:20210509T235959
DTSTAMP:20260423T224039
CREATED:20210119T203016Z
LAST-MODIFIED:20210718T224214Z
UID:439-1620518400-1620604799@friendsoflarkrise.org
SUMMARY:FOL Volunteer Day
DESCRIPTION:
URL:https://friendsoflarkrise.org/calendar/fol-work-party-to-be-confirmed-2/
ATTACH;FMTTYPE=image/png:https://friendsoflarkrise.org/wp-content/uploads/2021/01/working-bee-icon.png
END:VEVENT
BEGIN:VEVENT
DTSTART;TZID=UTC:20210421T190000
DTEND;TZID=UTC:20210421T210000
DTSTAMP:20260423T224039
CREATED:20210119T202929Z
LAST-MODIFIED:20210120T022531Z
UID:437-1619031600-1619038800@friendsoflarkrise.org
SUMMARY:FOL Meeting
DESCRIPTION:
URL:https://friendsoflarkrise.org/calendar/fol-meeting-6/
ATTACH;FMTTYPE=image/png:https://friendsoflarkrise.org/wp-content/uploads/2021/01/FOL-meeting-icon.png
END:VEVENT
BEGIN:VEVENT
DTSTART;TZID=UTC:20210310T120000
DTEND;TZID=UTC:20210317T120000
DTSTAMP:20260423T224039
CREATED:20210718T225118Z
LAST-MODIFIED:20210718T225122Z
UID:762-1615377600-1615982400@friendsoflarkrise.org
SUMMARY:School Gardening Appeal
DESCRIPTION:
URL:https://friendsoflarkrise.org/calendar/school-gardening-appeal/
END:VEVENT
BEGIN:VEVENT
DTSTART;TZID=UTC:20210308T080000
DTEND;TZID=UTC:20210308T170000
DTSTAMP:20260423T224039
CREATED:20210308T121029Z
LAST-MODIFIED:20210308T121032Z
UID:598-1615190400-1615222800@friendsoflarkrise.org
SUMMARY:Spring Craft Packs on sale online
DESCRIPTION:Looking for some Spring craft inspiration? Spring Craft Packs are available now for £4 from the FoL online shop.
URL:https://friendsoflarkrise.org/calendar/spring-craft-packs-on-sale-online/
ATTACH;FMTTYPE=image/png:https://friendsoflarkrise.org/wp-content/uploads/2021/03/CraftPacks-Spring-1.png
END:VEVENT
BEGIN:VEVENT
DTSTART;TZID=UTC:20210307T000000
DTEND;TZID=UTC:20210307T235959
DTSTAMP:20260423T224039
CREATED:20210119T202827Z
LAST-MODIFIED:20210228T125221Z
UID:435-1615075200-1615161599@friendsoflarkrise.org
SUMMARY:FOL Work Party (CANCELLED)
DESCRIPTION:
URL:https://friendsoflarkrise.org/calendar/fol-work-party-to-be-confirmed/
ATTACH;FMTTYPE=image/png:https://friendsoflarkrise.org/wp-content/uploads/2021/01/working-bee-icon.png
END:VEVENT
BEGIN:VEVENT
DTSTART;TZID=UTC:20210224T190000
DTEND;TZID=UTC:20210224T210000
DTSTAMP:20260423T224039
CREATED:20210119T202621Z
LAST-MODIFIED:20210120T022613Z
UID:433-1614193200-1614200400@friendsoflarkrise.org
SUMMARY:FOL Meeting
DESCRIPTION:
URL:https://friendsoflarkrise.org/calendar/fol-meeting-5/
ATTACH;FMTTYPE=image/png:https://friendsoflarkrise.org/wp-content/uploads/2021/01/FOL-meeting-icon.png
END:VEVENT
BEGIN:VEVENT
DTSTART;TZID=UTC:20210207T000000
DTEND;TZID=UTC:20210207T235959
DTSTAMP:20260423T224039
CREATED:20201113T215256Z
LAST-MODIFIED:20210120T022636Z
UID:334-1612656000-1612742399@friendsoflarkrise.org
SUMMARY:FOL Work party (CANCELLED)
DESCRIPTION:Cancelled due to lockdown 3.
URL:https://friendsoflarkrise.org/calendar/fol-work-party-3/
ATTACH;FMTTYPE=image/png:https://friendsoflarkrise.org/wp-content/uploads/2021/01/working-bee-icon.png
END:VEVENT
BEGIN:VEVENT
DTSTART;TZID=UTC:20210120T190000
DTEND;TZID=UTC:20210120T193000
DTSTAMP:20260423T224039
CREATED:20210119T202446Z
LAST-MODIFIED:20210120T022249Z
UID:430-1611169200-1611171000@friendsoflarkrise.org
SUMMARY:FOL Meeting
DESCRIPTION:This is the meeting that was originally scheduled for 6 Jan 2021.
URL:https://friendsoflarkrise.org/calendar/fol-meeting-4/
ATTACH;FMTTYPE=image/png:https://friendsoflarkrise.org/wp-content/uploads/2021/01/FOL-meeting-icon.png
END:VEVENT
BEGIN:VEVENT
DTSTART;TZID=UTC:20210106T190000
DTEND;TZID=UTC:20210106T210000
DTSTAMP:20260423T224039
CREATED:20201113T215146Z
LAST-MODIFIED:20210120T022730Z
UID:332-1609959600-1609966800@friendsoflarkrise.org
SUMMARY:FOL Meeting (POSTPONED)
DESCRIPTION:
URL:https://friendsoflarkrise.org/calendar/fol-meeting-3/
ATTACH;FMTTYPE=image/png:https://friendsoflarkrise.org/wp-content/uploads/2021/01/FOL-meeting-icon.png
END:VEVENT
BEGIN:VEVENT
DTSTART;TZID=UTC:20210103T000000
DTEND;TZID=UTC:20210103T235959
DTSTAMP:20260423T224039
CREATED:20201113T215044Z
LAST-MODIFIED:20210120T145356Z
UID:330-1609632000-1609718399@friendsoflarkrise.org
SUMMARY:FOL Work Party (CANCELLED)
DESCRIPTION:
URL:https://friendsoflarkrise.org/calendar/fol-work-party-2/
ATTACH;FMTTYPE=image/png:https://friendsoflarkrise.org/wp-content/uploads/2021/01/working-bee-icon.png
END:VEVENT
BEGIN:VEVENT
DTSTART;TZID=UTC:20201206T000000
DTEND;TZID=UTC:20201206T235959
DTSTAMP:20260423T224039
CREATED:20201113T213130Z
LAST-MODIFIED:20210120T022812Z
UID:314-1607212800-1607299199@friendsoflarkrise.org
SUMMARY:FOL Work Party (CANCELLED)
DESCRIPTION:Monthly school improvements work party
URL:https://friendsoflarkrise.org/calendar/work-party/
ATTACH;FMTTYPE=image/png:https://friendsoflarkrise.org/wp-content/uploads/2021/01/working-bee-icon.png
END:VEVENT
BEGIN:VEVENT
DTSTART;TZID=UTC:20201108T000000
DTEND;TZID=UTC:20201108T235959
DTSTAMP:20260423T224039
CREATED:20201113T214928Z
LAST-MODIFIED:20210120T023557Z
UID:328-1604793600-1604879999@friendsoflarkrise.org
SUMMARY:FOL Work Party (CANCELLED)
DESCRIPTION:
URL:https://friendsoflarkrise.org/calendar/fol-work-party/
ATTACH;FMTTYPE=image/png:https://friendsoflarkrise.org/wp-content/uploads/2021/01/working-bee-icon.png
END:VEVENT
BEGIN:VEVENT
DTSTART;TZID=UTC:20201104T190000
DTEND;TZID=UTC:20201104T210000
DTSTAMP:20260423T224039
CREATED:20201113T214140Z
LAST-MODIFIED:20210120T022903Z
UID:321-1604516400-1604523600@friendsoflarkrise.org
SUMMARY:FOL Meeting
DESCRIPTION:
URL:https://friendsoflarkrise.org/calendar/fol-meeting-2/
ATTACH;FMTTYPE=image/png:https://friendsoflarkrise.org/wp-content/uploads/2021/01/FOL-meeting-icon.png
END:VEVENT
END:VCALENDAR